BEGIN:VCALENDAR
VERSION:2.0
PRODID:-//Deluxe Bar &amp; Cocktail Lounge |  Rooftop Bar &amp; Dining | Events | Function Venue | Club - ECPv6.5.0//NONSGML v1.0//EN
CALSCALE:GREGORIAN
METHOD:PUBLISH
X-ORIGINAL-URL:https://www.deluxebar.com.au
X-WR-CALDESC:Events for Deluxe Bar &amp; Cocktail Lounge |  Rooftop Bar &amp; Dining | Events | Function Venue | Club
REFRESH-INTERVAL;VALUE=DURATION:PT1H
X-Robots-Tag:noindex
X-PUBLISHED-TTL:PT1H
BEGIN:VTIMEZONE
TZID:UTC
BEGIN:STANDARD
TZOFFSETFROM:+0000
TZOFFSETTO:+0000
TZNAME:UTC
DTSTART:20260101T000000
END:STANDARD
END:VTIMEZONE
BEGIN:VEVENT
DTSTART;TZID=UTC:20260620T200000
DTEND;TZID=UTC:20260620T230000
DTSTAMP:20260424T233324
CREATED:20260319T094154Z
LAST-MODIFIED:20260319T094154Z
UID:10000352-1781985600-1781996400@www.deluxebar.com.au
SUMMARY:MAC MILLER ON REPEAT MELBOURNE
DESCRIPTION:100% MAC MILLER ALL NIGHT LONG!\nWanna get a mansion\nA jacuzzi\, a theater to watch my movies\nDJs spinning non stop Mac Miller all night\n\nStaff wanted – multiple roles available! DJs\, Designers\, Photographers\, Content Creators\, Influencers\, Videographers\, Video Editors\, Photo Editors\, Door Staff\, Event Hosting Staff\, Event managers\, plus more! INBOX THE EVENT PAGE TO APPLY. DO NOT CONTACT VENUES.\n\nTo guarantee the authenticity of your tickets\, please purchase them exclusively through the official link provided in our event listing. We strongly advise against purchasing tickets from any third-party resellers. Tickets advertised by private individuals are not verified by us and may be illegitimate.\n\nWhile we cannot guarantee that all venues are fully accessible to all patrons\, we are committed to accommodating needs as best we can. We offer companion tickets and encourage you to contact the specific venues for detailed accessibility information.\n\nWe do not tolerate any disrespectful behaviour toward other patrons.\nThis event is 18+\, photo ID required. No refunds. Attendees should plan to arrive as early as possible to ensure they experience all event features.
URL:https://www.deluxebar.com.au/event/mac-miller-on-repeat-melbourne/
LOCATION:Deluxe Bar\, 595 Mt Alexander road\, Moonee Ponds\, Victoria\, 3039\, Australia
CATEGORIES:Alternative
ATTACH;FMTTYPE=image/webp:https://www.deluxebar.com.au/wp-content/uploads/2026/03/MM.webp
END:VEVENT
BEGIN:VEVENT
DTSTART;TZID=UTC:20260620T230000
DTEND;TZID=UTC:20260621T030000
DTSTAMP:20260424T233324
CREATED:20260319T094506Z
LAST-MODIFIED:20260319T094506Z
UID:10000353-1781996400-1782010800@www.deluxebar.com.au
SUMMARY:JUICE WORLD ON REPEAT MELBOURNE
DESCRIPTION:Sad songs\, 999 vibes\, and tears you can’t fight. Come celebrate Juice WRLD. Playing Juice WRLD alSad songs\, 999 vibes\, and tearl night long\nPlaying Juice WRLD & friends all night long\n\nStaff wanted – multiple roles available! DJs\, Designers\, Photographers\, Content Creators\, Influencers\, Videographers\, Video Editors\, Photo Editors\, Door Staff\, Event Hosting Staff\, Event managers\, plus more! INBOX THE EVENT PAGE TO APPLY. DO NOT CONTACT VENUES.\n\nTo guarantee the authenticity of your tickets\, please purchase them exclusively through the official link provided in our event listing. We strongly advise against purchasing tickets from any third-party resellers. Tickets advertised by private individuals are not verified by us and may be illegitimate.\n\nWhile we cannot guarantee that all venues are fully accessible to all patrons\, we are committed to accommodating needs as best we can. We offer companion tickets and encourage you to contact the specific venues for detailed accessibility information.\n\nWe do not tolerate any disrespectful behaviour toward other patrons. This event is 18+\, photo ID required. No refunds. Attendees should plan to arrive as early as possible to ensure they experience all event features.
URL:https://www.deluxebar.com.au/event/juice-world-on-repeat-melbourne/
LOCATION:Deluxe Bar\, 595 Mt Alexander road\, Moonee Ponds\, Victoria\, 3039\, Australia
CATEGORIES:Alternative
ATTACH;FMTTYPE=image/webp:https://www.deluxebar.com.au/wp-content/uploads/2026/03/JW.webp
END:VEVENT
END:VCALENDAR