BEGIN:VCALENDAR
VERSION:2.0
PRODID:-//Deluxe Bar &amp; Cocktail Lounge |  Rooftop Bar &amp; Dining | Events | Function Venue | Club - ECPv6.5.0//NONSGML v1.0//EN
CALSCALE:GREGORIAN
METHOD:PUBLISH
X-ORIGINAL-URL:https://www.deluxebar.com.au
X-WR-CALDESC:Events for Deluxe Bar &amp; Cocktail Lounge |  Rooftop Bar &amp; Dining | Events | Function Venue | Club
REFRESH-INTERVAL;VALUE=DURATION:PT1H
X-Robots-Tag:noindex
X-PUBLISHED-TTL:PT1H
BEGIN:VTIMEZONE
TZID:UTC
BEGIN:STANDARD
TZOFFSETFROM:+0000
TZOFFSETTO:+0000
TZNAME:UTC
DTSTART:20250101T000000
END:STANDARD
TZID:Australia/Melbourne
BEGIN:STANDARD
TZOFFSETFROM:+1100
TZOFFSETTO:+1000
TZNAME:AEST
DTSTART:20260404T160000
END:STANDARD
BEGIN:DAYLIGHT
TZOFFSETFROM:+1000
TZOFFSETTO:+1100
TZNAME:AEDT
DTSTART:20261003T160000
END:DAYLIGHT
TZID:Australia/Melbourne
BEGIN:STANDARD
TZOFFSETFROM:+1100
TZOFFSETTO:+1000
TZNAME:AEST
DTSTART:20250405T160000
END:STANDARD
BEGIN:DAYLIGHT
TZOFFSETFROM:+1000
TZOFFSETTO:+1100
TZNAME:AEDT
DTSTART:20251004T160000
END:DAYLIGHT
END:VTIMEZONE
BEGIN:VEVENT
DTSTART;TZID=UTC:20260321T200000
DTEND;TZID=UTC:20260322T030000
DTSTAMP:20260424T143753
CREATED:20260310T020513Z
LAST-MODIFIED:20260310T020607Z
UID:10000339-1774123200-1774148400@www.deluxebar.com.au
SUMMARY:EMO VS GAMERS MELBOURNE
DESCRIPTION:Choose your fighter and join us for a big night of EMO and cosplay! \nInspired by:\nResident Evil Requiem / Minecraft / Five Nights At Freddy’s / Animal Crossing / Dead By Daylight / Grand Theft Auto / Zelda / Red Dead Redemption / Diablo / Baldur’s Gate / The Last of Us / The Sims / Final Fantasy / Kingdom Hearts / Borderlands / Mortal Kombat / Cyberpunk / World of Warcraft / Super Mario / Silent Hill / League of Legends / Resident Evil / Skyrim / Tekken / Overwatch / Fortnite / Street Fighter / Crash Bandicoot + whatever the heck you want! \nDress up comp: EMO vs GAMING COSPLAY! \nGIVEAWAYS\nFREE GAMES \nTHEMED DRINKS:\nDEAD BY DAYLIGHT DROP\nGENSHIN IMPACT GULP\nHOLLOW NIGHT HOOCH \n$5 DRINKS 8PM-9PM\nVODKA\nSCOTCH\nBOURBON\nGIN\nHOUSE MIDORI\nHOUSE MALIBU \nStaff wanted – multiple roles available! DJs\, Designers\, Photographers\, Content Creators\, Influencers\, Videographers\, Video Editors\, Photo Editors\, Door Staff\, Event Hosting Staff\, Full time event managers\, plus more! INBOX THE EVENT PAGE TO APPLY. DO NOT CONTACT VENUES. \nWe do not condone the purchase of tickets from any 3rd party resellers. The only way to guarantee the authenticity of tickets is by purchasing directly from the ticket link listed in our event.  \nUnfortunately we cannot guarantee that venues are accessible to all patrons but we do offer companion tickets and will try to accommodate the best we can. \nWe do not tolerate any disrespectful behaviour toward other patrons. \nThis event is DRINKING AGE ONLY – photo ID required. No refunds.\nEnd time of this event is approximate; it might end earlier or later depending on the venue and how busy it is.\n18+ Event | RSA Applies
URL:https://www.deluxebar.com.au/event/emo-vs-gamers/
LOCATION:Deluxe Bar\, 595 Mt Alexander road\, Moonee Ponds\, Victoria\, 3039\, Australia
CATEGORIES:Emo Night
ATTACH;FMTTYPE=image/webp:https://www.deluxebar.com.au/wp-content/uploads/2026/03/image.webp
END:VEVENT
BEGIN:VEVENT
DTSTART;TZID=Australia/Melbourne:20260321T200000
DTEND;TZID=Australia/Melbourne:20260321T230000
DTSTAMP:20260424T143753
CREATED:20260310T081311Z
LAST-MODIFIED:20260310T081311Z
UID:10000343-1774123200-1774134000@www.deluxebar.com.au
SUMMARY:POPPY ON REPEAT - MELBOURNE
DESCRIPTION:Hi. I’m Poppy.I am in your algorithm learning all your mannerisms.\nI’m already level with God.\n\n\nDJs playing non stop POPPY.\nStaff wanted – multiple roles available! DJs\, Designers\, Photographers\, Content Creators\, Influencers\, Videographers\, Video Editors\, Photo Editors\, Door Staff\, Event Hosting Staff\, Event managers\, plus more! INBOX THE EVENT PAGE TO APPLY. DO NOT CONTACT VENUES.\n\n\nTo guarantee the authenticity of your tickets\, please purchase them exclusively through the official link provided in our event listing. We strongly advise against purchasing tickets from any third-party resellers. Tickets advertised by private individuals are not verified by us and may be illegitimate.\n\n\nWhile we cannot guarantee that all venues are fully accessible to all patrons\, we are committed to accommodating needs as best we can. We offer companion tickets and encourage you to contact the specific venues for detailed accessibility information.\n\n\nWe do not tolerate any disrespectful behaviour toward other patrons.\nThis event is 18+ – photo ID required. No refunds.\n\nAttendees should plan to arrive as early as possible to ensure they experience all event features.
URL:https://www.deluxebar.com.au/event/poppy-on-repeat-melbourne/
LOCATION:Deluxe Bar\, 595 Mt Alexander road\, Moonee Ponds\, Victoria\, 3039\, Australia
CATEGORIES:Alternative,Emo Night,Pop & Theme Parties
ATTACH;FMTTYPE=image/webp:https://www.deluxebar.com.au/wp-content/uploads/2026/03/image-1.webp
END:VEVENT
BEGIN:VEVENT
DTSTART;TZID=UTC:20260321T200000
DTEND;TZID=UTC:20260321T220000
DTSTAMP:20260424T143753
CREATED:20260311T002730Z
LAST-MODIFIED:20260311T002730Z
UID:10000344-1774123200-1774130400@www.deluxebar.com.au
SUMMARY:PUNK GOES POP PARTY - MELBOURNE
DESCRIPTION:Where Pop Meets the Pit\nDJS spinning 2 hours of the best from Punk Goes Pop!\nHAPPY HOURS\n$5 VODKA\n$5 BOURBON\n$5 SCOTCH\n$5 GIN\n$5 TEQUILA\n$5 HOUSE MIDORI\n$5 HOUSE MALIBU\n$15 HOUSE BEER JUGS\nStaff wanted – multiple roles available! DJs\, Designers\, Photographers\, Content Creators\, Influencers\, Videographers\, Video Editors\, Photo Editors\, Door Staff\, Event Hosting Staff\, Event managers\, plus more! INBOX THE EVENT PAGE TO APPLY. DO NOT CONTACT VENUES.\n\nTo guarantee the authenticity of your tickets\, please purchase them exclusively through the official link provided in our event listing. We strongly advise against purchasing tickets from any third-party resellers. Tickets advertised by private individuals are not verified by us and may be illegitimate.\n\nWhile we cannot guarantee that all venues are fully accessible to all patrons\, we are committed to accommodating needs as best we can. We offer companion tickets and encourage you to contact the specific venues for detailed accessibility information.\n\nWe do not tolerate any disrespectful behaviour toward other patrons.\nThis event is 18+ only – photo ID required. No refunds.\nAttendees should plan to arrive as early as possible to ensure they experience all event features.
URL:https://www.deluxebar.com.au/event/punk-goes-pop-party-melbourne/
LOCATION:Deluxe Bar\, 595 Mt Alexander road\, Moonee Ponds\, Victoria\, 3039\, Australia
CATEGORIES:Emo Night,Pop & Theme Parties
ATTACH;FMTTYPE=image/jpeg:https://www.deluxebar.com.au/wp-content/uploads/2026/03/pop-party.jpg
END:VEVENT
BEGIN:VEVENT
DTSTART;TZID=UTC:20251003T210000
DTEND;TZID=UTC:20251004T020000
DTSTAMP:20260424T143753
CREATED:20250906T075045Z
LAST-MODIFIED:20250922T132158Z
UID:10000328-1759525200-1759543200@www.deluxebar.com.au
SUMMARY:SLEEP TOKEN EMO NIGHT MELBOURNE
DESCRIPTION:This is not a phase. It’s a ritual.We don’t mosh\, we beg.\nSpinning non STOP Sleep Token tracks for you to worship all night long.\nPRIZES FOR THE BEST SLEEP TOKEN FIT!\n \nThemed Drinks\nGranite GulpChokehold CupSummoning Sipper\n——————-\nHAPPY HOUR $5 CHEAP BEVS 8PM-9PM\n$5 VODKA\n$5 SCOTCH\n$5 BOURBON\n$5 HOUSE MIDORI\n$5 HOUSE MALIBU\n$5 HOUSE GIN\n$5 TEQUILA\n$5 BEERS\n$15 BEER JUGS\n \nBEST EMO NIGHT DRINK SPECIALS IN AUSTRALIA. It’s a ritual\n \nStaff wanted – multiple roles available! DJs\, Designers\, Photographers\, Content Creators\, Influencers\, Videographers\, Video Editors\, Photo Editors\, Door Staff\, Event Hosting Staff\, Full time event managers\, plus more! \nThe only way to guarantee the authenticity of tickets is by purchasing directly from the ticket link listed in our event.\n \nUnfortunately we cannot guarantee that venues are accessible to all patrons but we do offer companion tickets and will try to accommodate the best we can.\nWe do not tolerate any disrespectful behaviour toward other patrons.\n \nThis event is DRINKING AGE ONLY – photo ID required. No refunds.\nEnd time of this event is approximate; it might end 30 minutes earlier or later depending on the venue and how busy it is. Ticket Holders are advised to arrive as early as possible as to not miss out on the features of the event\n 
URL:https://www.deluxebar.com.au/event/sleep-token-night-melbourne/
LOCATION:Deluxe Bar\, 595 Mt Alexander road\, Moonee Ponds\, Victoria\, 3039\, Australia
CATEGORIES:Alternative,Emo Night
ATTACH;FMTTYPE=image/jpeg:https://www.deluxebar.com.au/wp-content/uploads/2025/09/480566381_1180781103409951_9180236548593941984_n.jpg
END:VEVENT
BEGIN:VEVENT
DTSTART;TZID=UTC:20250920T200000
DTEND;TZID=UTC:20250920T200000
DTSTAMP:20260424T143753
CREATED:20250814T011136Z
LAST-MODIFIED:20250814T011200Z
UID:10000323-1758398400-1758398400@www.deluxebar.com.au
SUMMARY:NU METAL HOUSE PARTY MELBOURNE
DESCRIPTION:DJ’s playing the best Nu Metal you know all night long!\nSlipknot feelings. Limp Bizkit energy. Korn-level chaos\nLINKIN PARK / LIMP BIZKIT / KORN / SLIPKNOT / DEFTONES / SYSTEM OF A DOWN / PAPA ROACH / RAGE AGAINST THE MACHINE / DISTURBED / DROWNING POOL + MORE\n————————————————-\nThemed Drinks:\nDad Vibes Drop\nChop Suey Cup\nPeople = Shot\nHAPPY HOUR 8PM-9PM\n$5 CRUISERS\n$5 BOURBON\n$5 SCOTCH\n$5 GIN\n$5 TEQUILA\n$5 HOUSE MIDORI\n$5 HOUSE MALIBU\n$15 HOUSE BEER JUGS\n————————————————\nWe do not condone the purchase of tickets from any 3rd party resellers. The only way to guarantee the authenticity of tickets is by purchasing directly from the ticket link listed in our event. If an individual claims to have tickets available for this event they are not verified by us ​​and may not be legitimate tickets.\nUnfortunately we cannot guarantee that venues are accessible to all patrons but we do offer companion tickets and will try to accommodate the best we can.\nWe do not tolerate any disrespectful behaviour toward other patrons.\nThis event is DRINKING AGE ONLY – photo ID required. No refunds.\nEnd time of this event is approximate; it might end earlier or later depending on the venue and how busy it is. Ticket Holders are advised to arrive as early as possible as to not miss out on the features of the event
URL:https://www.deluxebar.com.au/event/nu-metal-house-party-melbourne/
LOCATION:Deluxe Bar\, 595 Mt Alexander road\, Moonee Ponds\, Victoria\, 3039\, Australia
ATTACH;FMTTYPE=image/jpeg:https://www.deluxebar.com.au/wp-content/uploads/2025/08/nu-metal-house-party-sep20.jpg
END:VEVENT
BEGIN:VEVENT
DTSTART;TZID=Australia/Melbourne:20250816T200000
DTEND;TZID=Australia/Melbourne:20250816T200000
DTSTAMP:20260424T143753
CREATED:20250813T114758Z
LAST-MODIFIED:20250813T114847Z
UID:10000318-1755374400-1755374400@www.deluxebar.com.au
SUMMARY:OFFICECORE EMO NIGHT - MELBOURNE
DESCRIPTION:Sick of leaving your favorite emo tracks in the car before your boring corporate job?  We’ll be playing those songs all night long! \n HIGHLY TAXED MINIMUM RAGE PRICING FIRST 50 TIX FREE NEXT 100 TIX $5 NEXT 100 TIX $10THE REST OF THE TIX $15 ON THE DOOR $20\n BEST DRESSED COMP – CORPORATE EMO \n Best fit’ wins a VOUCHER\n\n——————————–\nBe sure to tag your outfits on our Instagram for your chance to win best dressed.  \n\n Free Emo Makeovers Giveaways\n Themed Drinks: Office Emo Elixir Corporate Emo Cooler HR Meeting Moonshine\n——————————–\nWe do not condone the purchase of tickets from any 3rd party resellers. The only way to guarantee the authenticity of tickets is by purchasing directly from the ticket link listed in our event. If an individual claims to have tickets available for this event they are not verified by us ​​and may not be legitimate tickets.\n\nUnfortunately we cannot guarantee that venues are accessible to all patrons but we do offer companion tickets and will try to accommodate the best we can. \n——————————–\n\nWe do not tolerate any disrespectful behaviour toward other patrons.This event is DRINKING AGE ONLY – photo ID required. No refunds.\nEnd time of this event is approximate; it might end earlier or later depending on the venue and how busy it is.Ticket Holders are advised to arrive as early as possible as to not miss out on the features of the event
URL:https://www.deluxebar.com.au/event/officecore-emo-night-melbourne/
LOCATION:Deluxe Bar\, 595 Mt Alexander road\, Moonee Ponds\, Victoria\, 3039\, Australia
ATTACH;FMTTYPE=image/jpeg:https://www.deluxebar.com.au/wp-content/uploads/2025/08/officecore-emo.jpg
END:VEVENT
BEGIN:VEVENT
DTSTART;TZID=UTC:20250621T200000
DTEND;TZID=UTC:20250622T030000
DTSTAMP:20260424T143753
CREATED:20250411T071921Z
LAST-MODIFIED:20250411T072003Z
UID:10000314-1750536000-1750561200@www.deluxebar.com.au
SUMMARY:DIVORCED DAD ROCK NIGHT
DESCRIPTION:Time to drop champ off at mums so you can have a night out featuring all the best grungy alt rock bands from back when music was ‘actually good’\nParty like the ex is on date night\, no need to fight over the aux as we’ll be spinning all the best divorced dad and newly single ex-missus rock all night.\nMake sure to tell everyone around you that you can’t believe they don’t know each song that plays!\n————————-\nWe’ll be putting our hands in our pockets and leaning back to the sounds of:\nNickelback / Linkin Park / Papa Roach / Limp Bizkit / Creed / Metallica / Hinder / 3 Doors Down / Pearl Jam / Seether / Korn / Incubus / Foo Fighters / Staind / Fuel / Three Days Grace / Puddle of Mudd / Soundgarden / Audio Slave / Stone Temple Pilots / Spiderbait / Powderfinger / Nirvana / PUSA / Killing Heidi / Silverchair +more\n–\nBest DADCORE outfit wins prizes!\nBust out your finest flannies and best band tees\n$100 Bar Tab\nGiveaways\n–\nDAD THEMED DRINKS\n‘NOW THIS IS MUSIC’ MOONSHINE\n‘I SAW THESE GUYS LIVE ONCE’’ GULP\n‘BACK IN MY DAY’ DROP\n–\nHAPPY HOUR 8PM-9PM\n$5 CRUISERS\n$5 BOURBON\n$5 SCOTCH\n$5 GIN\n$5 TEQUILA\n$5 HOUSE MIDORI\n$5 HOUSE MALIBU\n$15 HOUSE BEER JUGS\n————————————————\nWe do not condone the purchase of tickets from any 3rd party resellers. The only way to guarantee the authenticity of tickets is by purchasing directly from the ticket link listed in our event.\n–\nUnfortunately\, this event is not 100% wheelchair accessible. Please check the venue’s website for more information. Companion cards are welcome\, just show it on entry.\n–\nWe do not tolerate any disrespectful behaviour toward other patrons.\n18+ photo ID required. LGBTQ+ Friendly Event.\n–\nEnd time of this event is approximate; it might end earlier or later depending on the venue and how busy it is.
URL:https://www.deluxebar.com.au/event/divorced-dad-rock-night/
LOCATION:Deluxe Bar\, 595 Mt Alexander road\, Moonee Ponds\, Victoria\, 3039\, Australia
ATTACH;FMTTYPE=image/jpeg:https://www.deluxebar.com.au/wp-content/uploads/2025/04/487740127_1256558609803685_2119564762217663001_n.jpg
END:VEVENT
BEGIN:VEVENT
DTSTART;TZID=UTC:20250426T200000
DTEND;TZID=UTC:20250427T020000
DTSTAMP:20260424T143753
CREATED:20250411T072316Z
LAST-MODIFIED:20250411T072316Z
UID:10000315-1745697600-1745719200@www.deluxebar.com.au
SUMMARY:WRESTLEMANIA PARTY
DESCRIPTION:Spinning wrestler intros all night long. YEET!\n–\nCome get excited for the main event because The Last Time Is Now.\nBest Wrestler inspired ‘fit wins a $100 bar tab + WWE Title Belt Replica\n–\nThemed Drinks:Heel Cena HoochUce JuiceTiffy Time Tipple\n–\nWWE VisualsWWE Giveaways\n–\nWe do not condone the purchase of tickets from any 3rd party resellers. The only way to guarantee the authenticity of tickets is by purchasing directly from the ticket link listed in our event. If an individual claims to have tickets available for this event they are not verified by us and may not be legitimate tickets.\n–\nUnfortunately we cannot guarantee that venues are accessible to all patrons but we do offer companion tickets and will try to accommodate the best we can.\n–\nWe do not tolerate any disrespectful behaviour toward other patrons.\n18+ photo ID required. No refunds.\n–\nEnd time of this event is approximate; it might end earlier or later depending on the venue and how busy it is.
URL:https://www.deluxebar.com.au/event/wrestlemania-party/
LOCATION:Deluxe Bar\, 595 Mt Alexander road\, Moonee Ponds\, Victoria\, 3039\, Australia
ATTACH;FMTTYPE=image/jpeg:https://www.deluxebar.com.au/wp-content/uploads/2025/04/488067379_1260273026098910_9103212496048123452_n.jpg
END:VEVENT
BEGIN:VEVENT
DTSTART;TZID=UTC:20250417T200000
DTEND;TZID=UTC:20250418T030000
DTSTAMP:20260424T143753
CREATED:20250318T085750Z
LAST-MODIFIED:20250318T085750Z
UID:10000312-1744920000-1744945200@www.deluxebar.com.au
SUMMARY:EMO EASTER @ DELUXE - GOOD FRIDAY EVE
DESCRIPTION:DRESS UP COMP: Sad Bunnies\nBEST FITS WIN BAR TABS & PLUSHIES\nFree Emo MakeoversEaster Egg HuntBunny Ears Giveaway\n——————————————————–\nThemed Drinks:Bunny BrewEaster Egg Elixir\nMy Melody Moonshine\n——————————————————–\nWe do not condone the purchase of tickets from any 3rd party resellers. The only way to guarantee the authenticity of tickets is by purchasing directly from the ticket link listed in our event. If an individual claims to have tickets available for this event they are not verified by us and may not be legitimate tickets.\nWe do not tolerate any disrespectful behaviour toward other patrons.——————————————————–Companion cards are welcome\, just show on entry!\n18+ photo ID required. No refunds.The end time of this event is approximate; can end earlier or later depending on the venue and how busy it is.
URL:https://www.deluxebar.com.au/event/emo-easter-deluxe-good-friday-eve/
LOCATION:Deluxe Bar\, 595 Mt Alexander road\, Moonee Ponds\, Victoria\, 3039\, Australia
ATTACH;FMTTYPE=image/jpeg:https://www.deluxebar.com.au/wp-content/uploads/2025/03/Snapinst.app_484906832_18267292657280379_4048872211138141148_n_1080.jpg
END:VEVENT
BEGIN:VEVENT
DTSTART;TZID=UTC:20250329T200000
DTEND;TZID=UTC:20250330T020000
DTSTAMP:20260424T143753
CREATED:20250227T084320Z
LAST-MODIFIED:20250227T084320Z
UID:10000308-1743278400-1743300000@www.deluxebar.com.au
SUMMARY:Divorced Dad Rock Night Melbourne
DESCRIPTION:Sitting at home on your fold out chair in your new 1 bedroom unit blasting some Divorced Dad Rock? Come enjoy a night out where you get to hear your favourite grungy\, grunty\, groany bands back when music was ‘actually good’  Make sure to tell everyone around you that you can’t believe they don’t know each song that plays.\n–\nWe’ll be putting our hands in our pockets and leaning back to the sounds of:Nickelback / Daughtry / Creed / Tonic / Hinder / Lifehouse / Papa Roach / 3 Doors Down / Pearl Jam / Seether / Incubus / Staind / Fuel / Three Days Grace / Puddle of Mudd / Soundgarden / Audio Slave / Stone Temple Pilots / Foo Fighters / Spiderbait / Powderfinger / Nirvana / Killing Heidi / Silverchair\n–\nName one song from the shirt you’re wearing haha\, I bet you can’t!\n–\nBest DADCORE outfit wins prizes!$100 Bar TabGiveaways\n–\nDAD THEMED DRINKS‘NOW THIS IS MUSIC’ MOONSHINE‘I SAW THESE GUYS LIVE ONCE’’ GULP‘BACK IN MY DAY’ DROP\n–\nEarly bird tickets are only $10\, pretty cheap compared to child support \n–\nWe do not condone the purchase of tickets from any 3rd party resellers. The only way to guarantee the authenticity of tickets is by purchasing directly from the ticket link listed in our event. If an individual claims to have tickets available for this event they are not verified by us ​​and may not be legitimate tickets.\nUnfortunately\, this event is not 100% wheelchair accessible.Please check the venue’s website for more information.Companion cards are welcome\, just show it on entry.\n–\nWe do not tolerate any disrespectful behaviour toward other patrons.\n18+ photo ID required. No refunds.\nEnd time of this event is approximate; it might end earlier or later depending on the venue and how busy it is.
URL:https://www.deluxebar.com.au/event/divorced-dad-rock-night-melbourne/
LOCATION:Deluxe Bar\, 595 Mt Alexander road\, Moonee Ponds\, Victoria\, 3039\, Australia
ATTACH;FMTTYPE=image/jpeg:https://www.deluxebar.com.au/wp-content/uploads/2025/02/dad-rock-flyer-1.jpg
END:VEVENT
BEGIN:VEVENT
DTSTART;TZID=UTC:20250315T200000
DTEND;TZID=UTC:20250316T030000
DTSTAMP:20260424T143753
CREATED:20250211T101158Z
LAST-MODIFIED:20250211T102534Z
UID:10000304-1742068800-1742094000@www.deluxebar.com.au
SUMMARY:COST OF LIVING EMO NIGHT $5 TIX & DRINKS MELBOURNE
DESCRIPTION:Imagine living like a king someday\, a single night without an empty bank account Come on down to our Cost of Living Emo Night – where for one night only we pretend we’re not living paycheck to paycheck.\nIf money is such a problem\, well they got mansions\, think we should rob them on the way to the cheapest Emo Night around.\n$0 for the first 50 tickets$5 for the next 100 tickets$10 for the remainder of tickets\n\n8PM – 9PM$5 CRUISERS$5 SCOTCH$5 BOURBON$5 GIN$5 TEQUILA$5 HOUSE MIDORI$5 HOUSE MALIBU$15 BEER JUGS\n\n$40 Bottomless 6PM – 8PM (INCLUDES ENTRY TO EMO NIGHT)emococktails.com\n\nMost ‘expensive’ looking outfit wins a $100 Bar Tab!\n\nThemed DrinksCollege Kids CupMisery MoonshineNobody’s Home Mooch\n\nStaff wanted – multiple roles available! DJs\, Designers\, Photographers\, Content Creators\, Influencers\, Videographers\, Video Editors\, Photo Editors\, Door Staff\, Event Hosting Staff\, Full time event managers\, plus more! INBOX THE EVENT PAGE TO APPLY. DO NOT CONTACT VENUES.We do not condone the purchase of tickets from any 3rd party resellers. The only way to guarantee the authenticity of tickets is by purchasing directly from the ticket link listed in our event. If an individual claims to have tickets available for this event they are not verified by us and may not be legitimate tickets.\n\nWe do not tolerate any disrespectful behaviour toward other patrons.Unfortunately\, we cannot guarantee that venues are 100% accessible to all patrons. Please check the venue’s website for more informationCompanion cards are welcome\, just show on entry!\n\n18+ photo ID required. No refunds.\nThe end time of this event is approximate; can end earlier or later depending on the venue and how busy it is.
URL:https://www.deluxebar.com.au/event/cost-of-living-emo-night-5-tix-drinks-melbourne/
LOCATION:Deluxe Bar\, 595 Mt Alexander road\, Moonee Ponds\, Victoria\, 3039\, Australia
ATTACH;FMTTYPE=image/jpeg:https://www.deluxebar.com.au/wp-content/uploads/2025/02/cost-of-living-emo-flyer.jpg
END:VEVENT
BEGIN:VEVENT
DTSTART;TZID=UTC:20250215T200000
DTEND;TZID=UTC:20250216T030000
DTSTAMP:20260424T143753
CREATED:20250204T162340Z
LAST-MODIFIED:20250204T162340Z
UID:10000296-1739649600-1739674800@www.deluxebar.com.au
SUMMARY:EMO WEDDING - VALENTINES EMO NIGHT - MELBOURNE 2025
DESCRIPTION:TICKET LINK: https://www.eventbrite.com.au/e/emo-wedding-valentines-emo-night-melbourne-2025-tickets-1082776606979 \nWhose hand are you asking for at this month’s Emo Night? \nWe’ll be playing songs for lovers and headbangers for the heartbroken all night long! \nDRESS CODE: \nEMO WEDDING \nBest Newlyweds win a $200 bar tab \nBouquet Toss \nPlushie Giveaways \nFree Emo Makeovers \nFree Flower Wall Photoshoot \nFree Ring Pops \nBe sure to tag your outfits on our Instagram for your chance to win best dressed. \nThemed Drinks: \nStill Into You Sipper \nGirlfriend Gulp \nBeautiful Bride Brew \nInbox us if you want free entry for all our events! \nStaff wanted – multiple roles available! DJs\, Designers\, Photographers\, Content Creators\, Influencers\, Videographers\, Video Editors\, Photo Editors\, Door Staff\, Event Hosting Staff\, Full time event managers\, Plus More! INBOX THE EVENT PAGE TO APPLY. DO NOT CONTACT VENUES. \nWe do not condone the purchase of tickets from any 3rd party resellers. The only way to guarantee the authenticity of tickets is by purchasing directly from the ticket link listed in our event. If an individual claims to have tickets available for this event they are not verified by us ​​and may not be legitimate tickets. \nWe do not tolerate any disrespectful behaviour toward other patrons. Unfortunately\, this event is not 100% wheelchair accessible. \nPlease check the venue’s website for more information. \nCompanion cards are welcome\, just show it on entry! \n18+ photo ID required. No refunds. \nEnd time of this event is approximate; it might end earlier or later depending on the venue and how busy it is.
URL:https://www.deluxebar.com.au/event/emo-wedding-valentines-emo-night-melbourne-2025/
LOCATION:Deluxe Bar\, 595 Mt Alexander road\, Moonee Ponds\, Victoria\, 3039\, Australia
ATTACH;FMTTYPE=image/jpeg:https://www.deluxebar.com.au/wp-content/uploads/2025/02/emo-wedding-33.jpg
END:VEVENT
END:VCALENDAR