BEGIN:VCALENDAR
VERSION:2.0
PRODID:-//Deluxe Bar &amp; Cocktail Lounge |  Rooftop Bar &amp; Dining | Events | Function Venue | Club - ECPv6.5.0//NONSGML v1.0//EN
CALSCALE:GREGORIAN
METHOD:PUBLISH
X-ORIGINAL-URL:https://www.deluxebar.com.au
X-WR-CALDESC:Events for Deluxe Bar &amp; Cocktail Lounge |  Rooftop Bar &amp; Dining | Events | Function Venue | Club
REFRESH-INTERVAL;VALUE=DURATION:PT1H
X-Robots-Tag:noindex
X-PUBLISHED-TTL:PT1H
BEGIN:VTIMEZONE
TZID:UTC
BEGIN:STANDARD
TZOFFSETFROM:+0000
TZOFFSETTO:+0000
TZNAME:UTC
DTSTART:20240101T000000
END:STANDARD
END:VTIMEZONE
BEGIN:VEVENT
DTSTART;TZID=UTC:20240720T200000
DTEND;TZID=UTC:20240721T030000
DTSTAMP:20260424T112733
CREATED:20240628T095442Z
LAST-MODIFIED:20240628T095442Z
UID:10000007-1721505600-1721530800@www.deluxebar.com.au
SUMMARY:WWEMO Night Melbourne
DESCRIPTION:Dress Code: WRESTLING \nDJs playing mountains of Wrestler intros and nu-metal mixed in with your everyday emo. Can you smell what the Rock is cooking? \nSCENE CENTRAL \nEMO BANGERS! \nSMACKDOWN CENTRAL \nNU METAL HITS ALL NIGHT FT YOUR FAV WRESTLER INTROS! \nBest fit’ wins prizes: \n$100 bar tab \nGiveaways \nBe sure to tag your outfits on our Instagram for your chance to win best dressed. \nThemed Drinks: \nSuck It Sipper \nRest In Piece Pop \nStone Cold Shooter \nFree Emo Makeovers! \n$20 CASH ON THE DOOR & $20+BF TIX to help with the cost of living pressure \nUse our discount code MOTHERLODE to get a further discount! \nDM us to set up your own code and earn commission. \nStaff wanted – multiple roles available! DJs\, Designers\, Photographers\, IG Content Creators\, Influencers\, Videographers\, Video Editors\, Photo Editors\, Door Staff\, Event Hosting Staff + More! Inbox our page if interested! (Do not inbox the venue page) \nWe do not condone the purchase of tickets from any 3rd party resellers. The only way to guarantee the authenticity of tickets is by purchasing directly from the ticket link listed in our event. If an individual claims to have tickets available for this event they are not verified by us and may not be legitimate tickets \nThis event is body-positive & LGBTQIA+ friendly. \nHave fun\, respect our safe space and as always\, treat people with kindness! \n18+ photo ID required. No refunds. \nPlease take into consideration that the finishing time of the event is approximate and may vary depending on circumstances. The event organiser is not responsible if the venue chooses to close earlier or later than the advertised end time. To ensure customers receive all features as advertised at the event we recommend arriving at the event start time listed on the event.
URL:https://www.deluxebar.com.au/event/wwemo-night-melbourne/
LOCATION:Deluxe Bar\, 595 Mt Alexander road\, Moonee Ponds\, Victoria\, 3039\, Australia
ATTACH;FMTTYPE=image/jpeg:https://www.deluxebar.com.au/wp-content/uploads/2024/06/IMG_0128.jpeg
END:VEVENT
BEGIN:VEVENT
DTSTART;TZID=UTC:20240713T200000
DTEND;TZID=UTC:20240714T030000
DTSTAMP:20260424T112733
CREATED:20240628T094021Z
LAST-MODIFIED:20240628T094021Z
UID:10000005-1720900800-1720926000@www.deluxebar.com.au
SUMMARY:Sims Rave Melbourne
DESCRIPTION:Sul Sul! \nHooba Noobie? \nIt’s time to max your moods and come shurb your a*s on the dance floor at our Sims Rave! \nBest SIMS inspired outfit wins a prize \nDRESS CODE: THE SIMS \nBest Sims inspired outfit win prizes! \n$50 Sims 4 Cash Card \nGiveaways \nBe sure to tag us in your outfits on our Instagram for your chance to win best dressed. \nThemed Drinks \nBELLA GOTH BREW \nWOOHOO HOOCH \nBOOLPROP POP \nSims Visuals \nSims Remixes \nFree Glitter Bar \nInbox us if you want free entry for all our events! \nStaff wanted – multiple roles available! DJs\, Designers\, Photographers\, Content Creators\, Influencers\, Videographers\, Video Editors\, Photo Editors\, Door Staff\, Event Hosting Staff\, Full time event managers\,  Plus More! INBOX THE EVENT PAGE TO APPLY. DO NOT CONTACT VENUES. \nWe do not condone the purchase of tickets from any 3rd party resellers. The only way to guarantee the authenticity of tickets is by purchasing directly from the ticket link listed in our event. If an individual claims to have tickets available for this event they are not verified by us ​​and may not be legitimate tickets. \nThis event is body positive & LGBTQIA+ friendly. \nHave fun\, respect our safe space and as always\, treat people with kindness! \n18+ photo ID required. No refunds. \nPlease take into consideration that the finishing time of the event is approximate and may vary depending on circumstances. The event organiser is not responsible if the venue chooses to close earlier\, or later than the advertised end time. To ensure customers experience all features  advertised at the event\, we recommend  arriving at the event start time listed on the event
URL:https://www.deluxebar.com.au/event/sims-rave-melbourne/
LOCATION:Deluxe Bar\, 595 Mt Alexander road\, Moonee Ponds\, Victoria\, 3039\, Australia
ATTACH;FMTTYPE=image/jpeg:https://www.deluxebar.com.au/wp-content/uploads/2024/06/IMG_0126.jpeg
END:VEVENT
BEGIN:VEVENT
DTSTART;TZID=UTC:20240706T203000
DTEND;TZID=UTC:20240707T030000
DTSTAMP:20260424T112733
CREATED:20240628T093126Z
LAST-MODIFIED:20240628T093126Z
UID:10000004-1720297800-1720321200@www.deluxebar.com.au
SUMMARY:Retro 28s July - LADIES NIGHT - Free Cocktail for the Ladies on Arrival!
DESCRIPTION:The BIGGEST & BEST OVER 28s Party in the North! \nRetro28s LADIES NIGHT Saturday July 6 – Free Cocktail for the Ladies before 10pm! \nFree Photobooth | Live Band | Rooftop RnB Tribute | Giveaways \n$6 Cyndi Shots\, $ 7 Cowboy Shots & $10 Jam Donut Shots \nCome join us celebrating 4 decades of hits over 3 rooms of entertainment. It’s like 3 parties in one! \nBAND ROOM – LIVE 80’s/90’s BAND – \nCrowd favorites will be performing all the best Rock & Pop songs from the 80’S & 90’S & 00s Live in the bandroom \nMAIN ROOM – Decades of Hits: 80s 90s 00’s relive the memories! \nDisco Mick & DJ Rohan will be pumping out all the favorites from the 70’s\, 80’s\, 90’s & beyond \nROOFTOP – Old School RnB Tribute with DJ ROHAN til 11:30pm \nPLUS \nMidnight Countdown! At midnight the in-venue fireworks go off and free vodka jello shots are handed out to all guests \nFinger Food & Canapes – Complimentary Canapes 9-10pm \nLive Podium Dancers \nMelbourne’s best drink prices Includes $6 INXS shots\, & $7 Cowboy Shots til 12\, $5 Beers all night \nDedicated Smokers Room \nRoving Photgrpaher to capture the memories \n————— \nSo what are you waiting for? Book your tickets online today! \nTICKETS & ENTRY \nOnline Tickets Get a Free Retro Shotcard before 10pm \nLimited cheap earlybird tickets avail until sold out or 7 days \n$25 Cash Entry also avail on door all night (online tickets are cheaper and come with perks) \nBIRTHDAYS \nGot a bday coming up? If your bday is within 14 days of event inbox us for a Free Bday ticket & Cocktail \nBOOTHS AVAILABLE – Inbox to reserve \nDress Code: Dress to Impress | Look good\, feel good! \nLocation: Deluxe Bar\, 595 Mt Alexander rd\, Essendon \n28+ Event | RSA Applies | People under 28 may attend accompanied by a relative/spouse (so yes you can bring you niece to your Bday outing!) \nTHE BIGGEST AND BEST OVER 28’S PARTY IN THE NORTH!
URL:https://www.deluxebar.com.au/event/retro-28s-july-ladies-night-free-cocktail-for-the-ladies-on-arrival/
LOCATION:Deluxe Bar\, 595 Mt Alexander road\, Moonee Ponds\, Victoria\, 3039\, Australia
ATTACH;FMTTYPE=image/jpeg:https://www.deluxebar.com.au/wp-content/uploads/2024/06/IMG_0125.jpeg
END:VEVENT
BEGIN:VEVENT
DTSTART;TZID=UTC:20240705T200000
DTEND;TZID=UTC:20240706T020000
DTSTAMP:20260424T112733
CREATED:20240628T094537Z
LAST-MODIFIED:20240628T094655Z
UID:10000006-1720209600-1720231200@www.deluxebar.com.au
SUMMARY:DISNEY VS NICKELODEON PARTY MELBOURNE - THROWBACK EVENT OF THE YEAR
DESCRIPTION:THE PARTY YOUR 13YR OLD SELF ALWAYS DREAMED OF IS HERE \nMelbourne! Get ready to sing along at the top of your lungs to 5+ hrs of Disney vs Nickolodeon classics live in the club. It’s like Musical Theatre\, a Concert\, a Nightclub & Teenage crushes all rolled into one! \nIt’s time to break free and gather the squad together for an amazing night of singalongs & dance! \nMain Room Schedule: \n8:00 PM Disney Greatest Movie Themes Singalong \n8:30 PM Victorious vs iCarly \n9:00 PM: Camp Rock Appreciation \n9:30 PM: Lizzie Mcguire Vs Hannah Montana \n10:00 PM: High School Musical Vs Glee \n11:00 PM: Jonas Brothers vs Big Time Rush \n11:30 PM: Miley Cyrus X Olivia Rodrigo \n12:00 AM: Let-it-go Singalong at midnight! \n12:05 AM: Ariana vs Selena Gomez \n12:30 AM – Close: Pop & RnB Hits from Disney & Nick Stars! \nRooftop Programme: \n8:00 PM: It’s Britney B#@ch \n8:30 PM: Zendaya & Friends \n9:00 PM: 100% Hillary Duff \n9:30 PM Cheetah Girls Dance-off \n10:00 PM – Close: 2000s Pop Hits! \n+Songs from Big Time Rush\, Greatest Showman\, Lemonade Mouth +more! \nDRESS-UP COMP \nDress up in Disney or Nick inspired outfit for a chance to WIN a $100 Bar tab \nDisney Princesses\, Welcome! (+Z-swaggers\, Smilers etc) \nFUN STUFF! \nFlowerwall \nFree Fairy Floss \nBalloon wall \nLet it Go Singalong at midnight! \nBIRTHDAYS \nInbox for a free ticket if your birthday is within 2 weeks of the event! \nGUESTLISTS \nPart of a theatre group or dance school? Message us to setup a Guestlist (extra perks) \nTIME – 8pm-2am +2000s Pop Party encore \nWHERE – Deluxe Bar 595 Mt Alexander Road\, Moonee Ponds 3039 \nDrink Specials include: \n$5 Cruisers 8-9pm \n$5 House Midori/Malibu 8-10pm \n$5 iJelly Shots \n$5 Cat Valentine Shots \n$10 Break Free Strawberry Slushies (vodka\, strawberry cocktail) \nFacebook Event Page: facebook.com/events/s/disney-vs-nickelodeon-party-me/290546120799063/ \n—————————— \nNOTE: THERE IS STRICTLY LIMITED TICKETS AND WE EXPECT THIS TO SELL OUT – SO GET TICKETS ASAP TO MAKE SURE YOU DON’T MISS OUT \n—————————— \n18+ Event. | Event not affiliated with Disney or Nickelodeon
URL:https://www.deluxebar.com.au/event/disney-vs-nickelodeon-party-melbourne-throwback-event-of-the-year/
LOCATION:Deluxe Bar\, 595 Mt Alexander road\, Moonee Ponds\, Victoria\, 3039\, Australia
ATTACH;FMTTYPE=image/jpeg:https://www.deluxebar.com.au/wp-content/uploads/2024/06/IMG_0127.jpeg
END:VEVENT
BEGIN:VEVENT
DTSTART;TZID=UTC:20240622T210000
DTEND;TZID=UTC:20240623T023000
DTSTAMP:20260424T112733
CREATED:20240525T051542Z
LAST-MODIFIED:20240525T060852Z
UID:10000001-1719090000-1719109800@www.deluxebar.com.au
SUMMARY:90s vs 2000s Party Melbourne x
DESCRIPTION:
URL:https://www.deluxebar.com.au/event/90s-vs-2000s-party-melbourne-x/
LOCATION:Deluxe Bar\, 595 Mt Alexander road\, Moonee Ponds\, Victoria\, 3039\, Australia
ATTACH;FMTTYPE=image/png:https://www.deluxebar.com.au/wp-content/uploads/2024/05/SATURDAY-MARCH-9-1.png
END:VEVENT
BEGIN:VEVENT
DTSTART;TZID=UTC:20240601T203000
DTEND;TZID=UTC:20240602T030000
DTSTAMP:20260424T112733
CREATED:20240530T164755Z
LAST-MODIFIED:20240530T164916Z
UID:10000003-1717273800-1717297200@www.deluxebar.com.au
SUMMARY:Retro 28s June - 80'S NIGHT - Dress 80's for Free Cocktail
DESCRIPTION:The BIGGEST & BEST OVER 28s Party in the North! \nRetro28s 80’s NIGHT Saturday June 1st – Dress 80’s for a Free Cocktail before 10pm! \nFeaturing 100% 80s Hits til midnight! \nFree Photobooth | Live Band ROCKQ | Rooftop RnB Tribute | Giveaways \n$6 INXS Shots\, $ 7 Cowboy Shots & $10 Jam Donut Shots \nCome join us celebrating 4 decades of hits over 3 rooms of entertainment. It’s like 3 parties in one! \nClick for tickets and event details
URL:https://www.deluxebar.com.au/event/retro-28s-june-80s-night-dress-80s-for-free-cocktail/
LOCATION:Deluxe Bar\, 595 Mt Alexander road\, Moonee Ponds\, Victoria\, 3039\, Australia
ATTACH;FMTTYPE=image/png:https://www.deluxebar.com.au/wp-content/uploads/2024/05/Copy-of-Copy-of-Copy-of-NEXT-EVENT-SAT-JULY-1ST-2.png
END:VEVENT
END:VCALENDAR