BEGIN:VCALENDAR
VERSION:2.0
PRODID:-//Deluxe Bar &amp; Cocktail Lounge |  Rooftop Bar &amp; Dining | Events | Function Venue | Club - ECPv6.5.0//NONSGML v1.0//EN
CALSCALE:GREGORIAN
METHOD:PUBLISH
X-WR-CALNAME:Deluxe Bar &amp; Cocktail Lounge |  Rooftop Bar &amp; Dining | Events | Function Venue | Club
X-ORIGINAL-URL:https://www.deluxebar.com.au
X-WR-CALDESC:Events for Deluxe Bar &amp; Cocktail Lounge |  Rooftop Bar &amp; Dining | Events | Function Venue | Club
REFRESH-INTERVAL;VALUE=DURATION:PT1H
X-Robots-Tag:noindex
X-PUBLISHED-TTL:PT1H
BEGIN:VTIMEZONE
TZID:UTC
BEGIN:STANDARD
TZOFFSETFROM:+0000
TZOFFSETTO:+0000
TZNAME:UTC
DTSTART:20250101T000000
END:STANDARD
TZID:Australia/Melbourne
BEGIN:STANDARD
TZOFFSETFROM:+1100
TZOFFSETTO:+1000
TZNAME:AEST
DTSTART:20260404T160000
END:STANDARD
BEGIN:DAYLIGHT
TZOFFSETFROM:+1000
TZOFFSETTO:+1100
TZNAME:AEDT
DTSTART:20261003T160000
END:DAYLIGHT
END:VTIMEZONE
BEGIN:VEVENT
DTSTART;TZID=UTC:20260321T200000
DTEND;TZID=UTC:20260322T030000
DTSTAMP:20260424T185549
CREATED:20260310T020513Z
LAST-MODIFIED:20260310T020607Z
UID:10000339-1774123200-1774148400@www.deluxebar.com.au
SUMMARY:EMO VS GAMERS MELBOURNE
DESCRIPTION:Choose your fighter and join us for a big night of EMO and cosplay! \nInspired by:\nResident Evil Requiem / Minecraft / Five Nights At Freddy’s / Animal Crossing / Dead By Daylight / Grand Theft Auto / Zelda / Red Dead Redemption / Diablo / Baldur’s Gate / The Last of Us / The Sims / Final Fantasy / Kingdom Hearts / Borderlands / Mortal Kombat / Cyberpunk / World of Warcraft / Super Mario / Silent Hill / League of Legends / Resident Evil / Skyrim / Tekken / Overwatch / Fortnite / Street Fighter / Crash Bandicoot + whatever the heck you want! \nDress up comp: EMO vs GAMING COSPLAY! \nGIVEAWAYS\nFREE GAMES \nTHEMED DRINKS:\nDEAD BY DAYLIGHT DROP\nGENSHIN IMPACT GULP\nHOLLOW NIGHT HOOCH \n$5 DRINKS 8PM-9PM\nVODKA\nSCOTCH\nBOURBON\nGIN\nHOUSE MIDORI\nHOUSE MALIBU \nStaff wanted – multiple roles available! DJs\, Designers\, Photographers\, Content Creators\, Influencers\, Videographers\, Video Editors\, Photo Editors\, Door Staff\, Event Hosting Staff\, Full time event managers\, plus more! INBOX THE EVENT PAGE TO APPLY. DO NOT CONTACT VENUES. \nWe do not condone the purchase of tickets from any 3rd party resellers. The only way to guarantee the authenticity of tickets is by purchasing directly from the ticket link listed in our event.  \nUnfortunately we cannot guarantee that venues are accessible to all patrons but we do offer companion tickets and will try to accommodate the best we can. \nWe do not tolerate any disrespectful behaviour toward other patrons. \nThis event is DRINKING AGE ONLY – photo ID required. No refunds.\nEnd time of this event is approximate; it might end earlier or later depending on the venue and how busy it is.\n18+ Event | RSA Applies
URL:https://www.deluxebar.com.au/event/emo-vs-gamers/
LOCATION:Deluxe Bar\, 595 Mt Alexander road\, Moonee Ponds\, Victoria\, 3039\, Australia
CATEGORIES:Emo Night
ATTACH;FMTTYPE=image/webp:https://www.deluxebar.com.au/wp-content/uploads/2026/03/image.webp
END:VEVENT
BEGIN:VEVENT
DTSTART;TZID=Australia/Melbourne:20260321T200000
DTEND;TZID=Australia/Melbourne:20260321T230000
DTSTAMP:20260424T185549
CREATED:20260310T081311Z
LAST-MODIFIED:20260310T081311Z
UID:10000343-1774123200-1774134000@www.deluxebar.com.au
SUMMARY:POPPY ON REPEAT - MELBOURNE
DESCRIPTION:Hi. I’m Poppy.I am in your algorithm learning all your mannerisms.\nI’m already level with God.\n\n\nDJs playing non stop POPPY.\nStaff wanted – multiple roles available! DJs\, Designers\, Photographers\, Content Creators\, Influencers\, Videographers\, Video Editors\, Photo Editors\, Door Staff\, Event Hosting Staff\, Event managers\, plus more! INBOX THE EVENT PAGE TO APPLY. DO NOT CONTACT VENUES.\n\n\nTo guarantee the authenticity of your tickets\, please purchase them exclusively through the official link provided in our event listing. We strongly advise against purchasing tickets from any third-party resellers. Tickets advertised by private individuals are not verified by us and may be illegitimate.\n\n\nWhile we cannot guarantee that all venues are fully accessible to all patrons\, we are committed to accommodating needs as best we can. We offer companion tickets and encourage you to contact the specific venues for detailed accessibility information.\n\n\nWe do not tolerate any disrespectful behaviour toward other patrons.\nThis event is 18+ – photo ID required. No refunds.\n\nAttendees should plan to arrive as early as possible to ensure they experience all event features.
URL:https://www.deluxebar.com.au/event/poppy-on-repeat-melbourne/
LOCATION:Deluxe Bar\, 595 Mt Alexander road\, Moonee Ponds\, Victoria\, 3039\, Australia
CATEGORIES:Alternative,Emo Night,Pop & Theme Parties
ATTACH;FMTTYPE=image/webp:https://www.deluxebar.com.au/wp-content/uploads/2026/03/image-1.webp
END:VEVENT
BEGIN:VEVENT
DTSTART;TZID=UTC:20260321T200000
DTEND;TZID=UTC:20260321T220000
DTSTAMP:20260424T185549
CREATED:20260311T002730Z
LAST-MODIFIED:20260311T002730Z
UID:10000344-1774123200-1774130400@www.deluxebar.com.au
SUMMARY:PUNK GOES POP PARTY - MELBOURNE
DESCRIPTION:Where Pop Meets the Pit\nDJS spinning 2 hours of the best from Punk Goes Pop!\nHAPPY HOURS\n$5 VODKA\n$5 BOURBON\n$5 SCOTCH\n$5 GIN\n$5 TEQUILA\n$5 HOUSE MIDORI\n$5 HOUSE MALIBU\n$15 HOUSE BEER JUGS\nStaff wanted – multiple roles available! DJs\, Designers\, Photographers\, Content Creators\, Influencers\, Videographers\, Video Editors\, Photo Editors\, Door Staff\, Event Hosting Staff\, Event managers\, plus more! INBOX THE EVENT PAGE TO APPLY. DO NOT CONTACT VENUES.\n\nTo guarantee the authenticity of your tickets\, please purchase them exclusively through the official link provided in our event listing. We strongly advise against purchasing tickets from any third-party resellers. Tickets advertised by private individuals are not verified by us and may be illegitimate.\n\nWhile we cannot guarantee that all venues are fully accessible to all patrons\, we are committed to accommodating needs as best we can. We offer companion tickets and encourage you to contact the specific venues for detailed accessibility information.\n\nWe do not tolerate any disrespectful behaviour toward other patrons.\nThis event is 18+ only – photo ID required. No refunds.\nAttendees should plan to arrive as early as possible to ensure they experience all event features.
URL:https://www.deluxebar.com.au/event/punk-goes-pop-party-melbourne/
LOCATION:Deluxe Bar\, 595 Mt Alexander road\, Moonee Ponds\, Victoria\, 3039\, Australia
CATEGORIES:Emo Night,Pop & Theme Parties
ATTACH;FMTTYPE=image/jpeg:https://www.deluxebar.com.au/wp-content/uploads/2026/03/pop-party.jpg
END:VEVENT
BEGIN:VEVENT
DTSTART;TZID=UTC:20251003T210000
DTEND;TZID=UTC:20251004T020000
DTSTAMP:20260424T185549
CREATED:20250906T075045Z
LAST-MODIFIED:20250922T132158Z
UID:10000328-1759525200-1759543200@www.deluxebar.com.au
SUMMARY:SLEEP TOKEN EMO NIGHT MELBOURNE
DESCRIPTION:This is not a phase. It’s a ritual.We don’t mosh\, we beg.\nSpinning non STOP Sleep Token tracks for you to worship all night long.\nPRIZES FOR THE BEST SLEEP TOKEN FIT!\n \nThemed Drinks\nGranite GulpChokehold CupSummoning Sipper\n——————-\nHAPPY HOUR $5 CHEAP BEVS 8PM-9PM\n$5 VODKA\n$5 SCOTCH\n$5 BOURBON\n$5 HOUSE MIDORI\n$5 HOUSE MALIBU\n$5 HOUSE GIN\n$5 TEQUILA\n$5 BEERS\n$15 BEER JUGS\n \nBEST EMO NIGHT DRINK SPECIALS IN AUSTRALIA. It’s a ritual\n \nStaff wanted – multiple roles available! DJs\, Designers\, Photographers\, Content Creators\, Influencers\, Videographers\, Video Editors\, Photo Editors\, Door Staff\, Event Hosting Staff\, Full time event managers\, plus more! \nThe only way to guarantee the authenticity of tickets is by purchasing directly from the ticket link listed in our event.\n \nUnfortunately we cannot guarantee that venues are accessible to all patrons but we do offer companion tickets and will try to accommodate the best we can.\nWe do not tolerate any disrespectful behaviour toward other patrons.\n \nThis event is DRINKING AGE ONLY – photo ID required. No refunds.\nEnd time of this event is approximate; it might end 30 minutes earlier or later depending on the venue and how busy it is. Ticket Holders are advised to arrive as early as possible as to not miss out on the features of the event\n 
URL:https://www.deluxebar.com.au/event/sleep-token-night-melbourne/
LOCATION:Deluxe Bar\, 595 Mt Alexander road\, Moonee Ponds\, Victoria\, 3039\, Australia
CATEGORIES:Alternative,Emo Night
ATTACH;FMTTYPE=image/jpeg:https://www.deluxebar.com.au/wp-content/uploads/2025/09/480566381_1180781103409951_9180236548593941984_n.jpg
END:VEVENT
END:VCALENDAR